BEGIN:VCALENDAR
PRODID://WordPress//Event-Post-V5.9.2//EN
VERSION:2.0
BEGIN:VTIMEZONE
TZID:Europe/Madrid
BEGIN:DAYLIGHT
TZOFFSETFROM:+0100
TZOFFSETTO:+0200
DTSTART:19700329T020000
RRULE:FREQ=YEARLY;BYDAY=-1SU;BYMONTH=3
END:DAYLIGHT
BEGIN:STANDARD
TZOFFSETFROM:+0200
TZOFFSETTO:+0100
TZNAME:CET
DTSTART:19701025T030000
RRULE:FREQ=YEARLY;BYDAY=-1SU;BYMONTH=10
END:STANDARD
END:VTIMEZONE
BEGIN:VEVENT
SUMMARY:23/04/26 El Sotrac fa paradeta de llibres de Sant Jordi
UID:https://blogs.sindominio.net/lacinetika/2026/04/22/23-04-26-el-sotrac-fa-paradeta-de-llibres-de-sant-jordi/
LOCATION:
DTSTAMP:20260423T150000
DTSTART;TZID=Europe/Madrid:20260423T150000
DTEND;TZID=Europe/Madrid:20260423T210000
DESCRIPTION:Aquest Sant Jordi, com cada any, El Sotrac, la biblioteca crítica, surt al
carrer i tindrà paradeta de llibres davant de La Cinètika!
Ens trobareu el dijous 23 d'abril entre les 15h i les 20.30h com sempre.Hi
haurà una gran selecció de literatura crítica d'assaig, infantil,
narrativa i també tindrem còpies del llibre editat recentment fruit del
concurs de relats Narra Karcelona.
Veniu a donar suport a l'autogestió del projecte, a xerrar i a reivindicar
el Sant Jordi popular!
END:VEVENT
END:VCALENDAR