BEGIN:VCALENDAR
PRODID://WordPress//Event-Post-V5.9.2//EN
VERSION:2.0
BEGIN:VTIMEZONE
TZID:Europe/Madrid
BEGIN:DAYLIGHT
TZOFFSETFROM:+0100
TZOFFSETTO:+0200
DTSTART:19700329T020000
RRULE:FREQ=YEARLY;BYDAY=-1SU;BYMONTH=3
END:DAYLIGHT
BEGIN:STANDARD
TZOFFSETFROM:+0200
TZOFFSETTO:+0100
TZNAME:CET
DTSTART:19701025T030000
RRULE:FREQ=YEARLY;BYDAY=-1SU;BYMONTH=10
END:STANDARD
END:VTIMEZONE
BEGIN:VEVENT
SUMMARY:25/04/26 Cicle de cinema africà projectarà Visage des femmes, Dir. Desiré Ecaré, VOSE (1985)
UID:https://blogs.sindominio.net/lacinetika/2026/04/22/25-04-26-cicle-de-cinema-africa-projectara-visage-des-femmes-dir-desire-ecare-vose-1985/
LOCATION:
DTSTAMP:20260425T190000
DTSTART;TZID=Europe/Madrid:20260425T190000
DTEND;TZID=Europe/Madrid:20260425T190000
DESCRIPTION:Dissabte 25 d'abril del 2026, a les 19:00h, cicle de cinema africà
projectarà Visages de femmes, dirigida per Desiré Ecaré, de 105 minuts
de durada, VOSE (1985)
Taquilla inversa. El que es recapti es donarà a les cuines comunitàries
al Sudan.Ens veiem a la Cinètika - Rambla de Fabra i Puig, 28. SantAndreu
Tot el que es recapti es destinarà a les cuines comunitàries al Sudan.
Sinopsi:En un fesrival, un cor de dones canta i balla a mesura que es
desenvolupen dues històries.
END:VEVENT
END:VCALENDAR