BEGIN:VCALENDAR
PRODID://WordPress//Event-Post-V5.9.2//EN
VERSION:2.0
BEGIN:VTIMEZONE
TZID:Europe/Madrid
BEGIN:DAYLIGHT
TZOFFSETFROM:+0100
TZOFFSETTO:+0200
DTSTART:19700329T020000
RRULE:FREQ=YEARLY;BYDAY=-1SU;BYMONTH=3
END:DAYLIGHT
BEGIN:STANDARD
TZOFFSETFROM:+0200
TZOFFSETTO:+0100
TZNAME:CET
DTSTART:19701025T030000
RRULE:FREQ=YEARLY;BYDAY=-1SU;BYMONTH=10
END:STANDARD
END:VTIMEZONE
BEGIN:VEVENT
SUMMARY:22/04/26 Porc Roig projecta ¡Que viva México!, Dir. Sergei Eisenstein, VOSE (1979)
UID:https://blogs.sindominio.net/lacinetika/2026/04/21/22-04-26-porc-roig-projecta-que-viva-mexico-dir-sergei-eisenstein-vose-1979/
LOCATION:
DTSTAMP:20260422T190000
DTSTART;TZID=Europe/Madrid:20260422T190000
DTEND;TZID=Europe/Madrid:20260422T210000
DESCRIPTION:El dimecres 22 d'abril a les 19h, Projeccions Porc Roig projectarà ¡Que
viva México!, dirigida per Sergei Eisenstein, de 90 minuts de durada, VOSE
(1979).
Mèxic va despertar la imaginació de Eisenstein desde la seva infància,
entrant en contacte amb el país al colaborar en el any 1920 en el montatge
de la obra de teatre "El mexicano" com a decorador; de la que va acabar
convertint-se en codirector; l'obra tenia ben poc en comú amb México
donat que la majoria de l'acció transcurria en els Estats Units, només
l'estètica dels decorats salvaven l'obra a ulls seus. És una pel·lícula
de trama ben poc habitual. Basada en quatre novel·les, arranjades amb un
pròleg i un epíleg. Unides en essència i esperit, diferents en contingut
i escenari. Amb varietat de paisatges, gents i costums, contrastant el
ritme i la forma, composen una enorme i simfònica pel·lícula sobre
Mèxic.
END:VEVENT
END:VCALENDAR