BEGIN:VCALENDAR
PRODID://WordPress//Event-Post-V5.9.2//EN
VERSION:2.0
BEGIN:VTIMEZONE
TZID:Europe/Madrid
BEGIN:DAYLIGHT
TZOFFSETFROM:+0100
TZOFFSETTO:+0200
DTSTART:19700329T020000
RRULE:FREQ=YEARLY;BYDAY=-1SU;BYMONTH=3
END:DAYLIGHT
BEGIN:STANDARD
TZOFFSETFROM:+0200
TZOFFSETTO:+0100
TZNAME:CET
DTSTART:19701025T030000
RRULE:FREQ=YEARLY;BYDAY=-1SU;BYMONTH=10
END:STANDARD
END:VTIMEZONE
BEGIN:VEVENT
SUMMARY:29/04/26 Projeccions Porc Roig projectarà Els nois de Fengkuei, Dir. Hou Hsiao-hsien, VOSCat (1983)
UID:https://blogs.sindominio.net/lacinetika/2026/04/23/29-04-26-projeccions-porc-roig-projectara-els-nois-de-fengkuei-dir-hou-hsiao-hsien-voscat-1983/
LOCATION:
DTSTAMP:20260429T193000
DTSTART;TZID=Europe/Madrid:20260429T193000
DTEND;TZID=Europe/Madrid:20260429T220000
DESCRIPTION:El dimecres 29 d'abril a les 19:30h, Projeccions Porc Roig projectarà Els
nois de Fengkuei, dirigida per Hou Hsiao-hsien, de 98 minuts de durada, en
VOSCat (1983).
Sinopsi:Els nois de Fengkuei no tenen res a fer a la seva illeta més
enllà de barallar-se i passar l'estona. Es muden a la ciutat buscant
sentir alguna cosa genuïna, on trobaràn l'amor, dificultats personals i,
en definitiva, tot el que el jovent pot viure.
END:VEVENT
END:VCALENDAR