BEGIN:VCALENDAR
PRODID://WordPress//Event-Post-V5.9.2//EN
VERSION:2.0
BEGIN:VTIMEZONE
TZID:Europe/Madrid
BEGIN:DAYLIGHT
TZOFFSETFROM:+0100
TZOFFSETTO:+0200
DTSTART:19700329T020000
RRULE:FREQ=YEARLY;BYDAY=-1SU;BYMONTH=3
END:DAYLIGHT
BEGIN:STANDARD
TZOFFSETFROM:+0200
TZOFFSETTO:+0100
TZNAME:CET
DTSTART:19701025T030000
RRULE:FREQ=YEARLY;BYDAY=-1SU;BYMONTH=10
END:STANDARD
END:VTIMEZONE
BEGIN:VEVENT
SUMMARY:21/04/26 Assessoria col.lectiva especial per prorrogar els contractes de lloguer
UID:https://blogs.sindominio.net/lacinetika/2026/04/19/21-04-26-assessoria-col-lectiva-especial-per-prorrogar-els-contractes-de-lloguer/
LOCATION:
DTSTAMP:20260421T183000
DTSTART;TZID=Europe/Madrid:20260421T183000
DTEND;TZID=Europe/Madrid:20260421T213000
DESCRIPTION:Si el teu lloguer acaba abans del 31 de desembre del 2027 això
t'interessa! 
No saps si pots sol·licitar la pròrroga de lloguer? Vols saber com
fer-ho? Vine a l'assessorament que farem aquest dimarts i ho resolem
juntes. Porta el teu contracte de lloguer!Ens veiem el dimarts 21 d'abril a
les 18:30h a La Cinètika.
END:VEVENT
END:VCALENDAR