BEGIN:VCALENDAR
PRODID://WordPress//Event-Post-V5.9.2//EN
VERSION:2.0
BEGIN:VTIMEZONE
TZID:Europe/Madrid
BEGIN:DAYLIGHT
TZOFFSETFROM:+0100
TZOFFSETTO:+0200
DTSTART:19700329T020000
RRULE:FREQ=YEARLY;BYDAY=-1SU;BYMONTH=3
END:DAYLIGHT
BEGIN:STANDARD
TZOFFSETFROM:+0200
TZOFFSETTO:+0100
TZNAME:CET
DTSTART:19701025T030000
RRULE:FREQ=YEARLY;BYDAY=-1SU;BYMONTH=10
END:STANDARD
END:VTIMEZONE
BEGIN:VEVENT
SUMMARY:24/04/26 Sessions Golfes de La Cinètika projectarem The Princess Bride (La princesa promesa), Dir: Rob Reiner, VOSE (1987)
UID:https://blogs.sindominio.net/lacinetika/2026/04/20/24-04-26-sessions-golfes-de-la-cinetika-projectarem-the-princess-bride-la-princesa-promesa-dir-rob-reiner-vose-1987/
LOCATION:
DTSTAMP:20260424T233000
DTSTART;TZID=Europe/Madrid:20260424T233000
DTEND;TZID=Europe/Madrid:20260425T013000
DESCRIPTION:El divendres 24 d'abril a les 23:30h, Sessions Golfes de La Cinètika
projectarem The Princess Bride (La princesa promesa), dirigida per Rob
Reiner, de 98 minuts de durada, VOSE (1987).
Sinopsi:L'avi d'un noi postrat al llit li llegeix la història d'un noi
pagès convertit en pirata que s'enfronta a nombrosos obstacles, enemics i
aliats en la seva recerca per reunir-se amb el seu veritable amor.
END:VEVENT
END:VCALENDAR