BEGIN:VCALENDAR
PRODID://WordPress//Event-Post-V5.9.2//EN
VERSION:2.0
BEGIN:VTIMEZONE
TZID:Europe/Madrid
BEGIN:DAYLIGHT
TZOFFSETFROM:+0100
TZOFFSETTO:+0200
DTSTART:19700329T020000
RRULE:FREQ=YEARLY;BYDAY=-1SU;BYMONTH=3
END:DAYLIGHT
BEGIN:STANDARD
TZOFFSETFROM:+0200
TZOFFSETTO:+0100
TZNAME:CET
DTSTART:19701025T030000
RRULE:FREQ=YEARLY;BYDAY=-1SU;BYMONTH=10
END:STANDARD
END:VTIMEZONE
BEGIN:VEVENT
SUMMARY:27/04/26 Cinema dilluns projectarà Las Margaritas, Dir. dirigida per Vera Chytilová, VOSE (1966)
UID:https://blogs.sindominio.net/lacinetika/2026/04/21/27-04-26-cinema-dilluns-projectara-las-margaritas-dir-dirigida-per-vera-chytilova-vose-1966/
LOCATION:
DTSTAMP:20260427T193000
DTSTART;TZID=Europe/Madrid:20260427T193000
DTEND;TZID=Europe/Madrid:20260427T210000
DESCRIPTION:El dilluns 27 d'abril a les 19:30h, Cinema dilluns projectarà Las
Margaritas, dirigida per dirigida per Vera Chytilová, de 76 minuts de
durada, VOSE (1966).
Sinopsi:Dues noies joves conclouen, mentre prenen el sol en biquini, que
«si en aquest món tot està corromput, nosaltres també estarem
corrompudes». Així s’activa el mecanisme que posa en marxa la
pel·lícula: una darrere l’altra, es van produint escenes inconexes en
les quals les dues protagonistes juguen a ser dolentes amb el seu entorn.
Enganyen homes madurs per menjar gratuïtament, escriuen i dibuixen a les
parets de casa seva, improvisen un ball en un cabaret per boicotejar el
número que hi ha en escena, engoleixen i destrossen els menjars d’un
banquet preparat per a altres.
END:VEVENT
END:VCALENDAR